BEGIN:VCALENDAR
VERSION:2.0
PRODID:-//wp-events-plugin.com//7.2.3.1//EN
TZID:America/Juneau
X-WR-TIMEZONE:America/Juneau
BEGIN:VEVENT
UID:249@orhatzafon.org
DTSTART;TZID=America/Juneau:20241012T100000
DTEND;TZID=America/Juneau:20241012T120000
DTSTAMP:20241008T185809Z
URL:https://www.orhatzafon.org/events/yom-kippur-morning-service/
SUMMARY:Yom Kippur Morning Service
DESCRIPTION:10am\, Morning Service\, Or HaTzafon
END:VEVENT
BEGIN:VTIMEZONE
TZID:America/Juneau
X-LIC-LOCATION:America/Juneau
BEGIN:DAYLIGHT
DTSTART:20240310T030000
TZOFFSETFROM:-0900
TZOFFSETTO:-0800
TZNAME:AKDT
END:DAYLIGHT
END:VTIMEZONE
END:VCALENDAR