BEGIN:VCALENDAR
VERSION:2.0
PRODID:-//wp-events-plugin.com//7.2.3.1//EN
TZID:America/Juneau
X-WR-TIMEZONE:America/Juneau
BEGIN:VEVENT
UID:250@orhatzafon.org
DTSTART;TZID=America/Juneau:20241012T130000
DTEND;TZID=America/Juneau:20241012T140000
DTSTAMP:20241008T185857Z
URL:https://www.orhatzafon.org/events/yizkor/
SUMMARY:Yizkor
DESCRIPTION:1pm\, Yizkor (directly after morning service)\, Or HaTzafon
END:VEVENT
BEGIN:VTIMEZONE
TZID:America/Juneau
X-LIC-LOCATION:America/Juneau
BEGIN:DAYLIGHT
DTSTART:20240310T030000
TZOFFSETFROM:-0900
TZOFFSETTO:-0800
TZNAME:AKDT
END:DAYLIGHT
END:VTIMEZONE
END:VCALENDAR