BEGIN:VCALENDAR
VERSION:2.0
PRODID:-//wp-events-plugin.com//7.2.3.1//EN
TZID:America/Juneau
X-WR-TIMEZONE:America/Juneau
BEGIN:VEVENT
UID:240@orhatzafon.org
DTSTART;TZID=America/Juneau:20240629T103000
DTEND;TZID=America/Juneau:20240629T120000
DTSTAMP:20240607T194847Z
URL:https://www.orhatzafon.org/events/torah-study-4/
SUMMARY:Torah Study
DESCRIPTION:@ Or HaTzafon
END:VEVENT
BEGIN:VTIMEZONE
TZID:America/Juneau
X-LIC-LOCATION:America/Juneau
BEGIN:DAYLIGHT
DTSTART:20240310T030000
TZOFFSETFROM:-0900
TZOFFSETTO:-0800
TZNAME:AKDT
END:DAYLIGHT
END:VTIMEZONE
END:VCALENDAR