BEGIN:VCALENDAR
VERSION:2.0
PRODID:-//wp-events-plugin.com//7.2.3.1//EN
TZID:America/Juneau
X-WR-TIMEZONE:America/Juneau
BEGIN:VEVENT
UID:271@orhatzafon.org
DTSTART;TZID=America/Juneau:20250621T110000
DTEND;TZID=America/Juneau:20250621T130000
DTSTAMP:20250617T050807Z
URL:https://www.orhatzafon.org/events/torah-and-bagels/
SUMMARY:Torah and Bagels
DESCRIPTION:Saturday\, June 21 at 11am - Torah and Bagels. @ Or HaTzafon
END:VEVENT
BEGIN:VTIMEZONE
TZID:America/Juneau
X-LIC-LOCATION:America/Juneau
BEGIN:DAYLIGHT
DTSTART:20250309T030000
TZOFFSETFROM:-0900
TZOFFSETTO:-0800
TZNAME:AKDT
END:DAYLIGHT
END:VTIMEZONE
END:VCALENDAR