BEGIN:VCALENDAR
VERSION:2.0
PRODID:-//wp-events-plugin.com//7.2.3.1//EN
TZID:America/Juneau
X-WR-TIMEZONE:America/Juneau
BEGIN:VEVENT
UID:274@orhatzafon.org
DTSTART;TZID=America/Juneau:20250705T110000
DTEND;TZID=America/Juneau:20250705T130000
DTSTAMP:20250617T051009Z
URL:https://www.orhatzafon.org/events/torah-and-bagels-2/
SUMMARY:Torah and Bagels
DESCRIPTION:Saturday\, July 5 at 11am - Torah and Bagels.
END:VEVENT
BEGIN:VTIMEZONE
TZID:America/Juneau
X-LIC-LOCATION:America/Juneau
BEGIN:DAYLIGHT
DTSTART:20250309T030000
TZOFFSETFROM:-0900
TZOFFSETTO:-0800
TZNAME:AKDT
END:DAYLIGHT
END:VTIMEZONE
END:VCALENDAR