BEGIN:VCALENDAR
VERSION:2.0
PRODID:-//wp-events-plugin.com//7.2.3.1//EN
TZID:America/Juneau
X-WR-TIMEZONE:America/Juneau
BEGIN:VEVENT
UID:276@orhatzafon.org
DTSTART;TZID=America/Juneau:20250712T103000
DTEND;TZID=America/Juneau:20250712T130000
DTSTAMP:20250617T051208Z
URL:https://www.orhatzafon.org/events/sophias-bat-mitzvah/
SUMMARY:Sophia's Bat Mitzvah
DESCRIPTION:Saturday\, July 12 at 10:30am- Sophia's Bat Mitzvah
END:VEVENT
BEGIN:VTIMEZONE
TZID:America/Juneau
X-LIC-LOCATION:America/Juneau
BEGIN:DAYLIGHT
DTSTART:20250309T030000
TZOFFSETFROM:-0900
TZOFFSETTO:-0800
TZNAME:AKDT
END:DAYLIGHT
END:VTIMEZONE
END:VCALENDAR