BEGIN:VCALENDAR
VERSION:2.0
PRODID:-//wp-events-plugin.com//7.2.3.1//EN
TZID:America/Juneau
X-WR-TIMEZONE:America/Juneau
BEGIN:VEVENT
UID:255@orhatzafon.org
DTSTART;TZID=America/Juneau:20241025T190000
DTEND;TZID=America/Juneau:20241025T200000
DTSTAMP:20241024T202004Z
URL:https://www.orhatzafon.org/events/shabbat-services-13/
SUMMARY:Shabbat Services
DESCRIPTION:7pm\, @ Or HaTzafon\n\nServices led by Thad\n\nOneg from Norma
END:VEVENT
BEGIN:VTIMEZONE
TZID:America/Juneau
X-LIC-LOCATION:America/Juneau
BEGIN:DAYLIGHT
DTSTART:20240310T030000
TZOFFSETFROM:-0900
TZOFFSETTO:-0800
TZNAME:AKDT
END:DAYLIGHT
END:VTIMEZONE
END:VCALENDAR