BEGIN:VCALENDAR
VERSION:2.0
PRODID:-//wp-events-plugin.com//7.2.3.1//EN
TZID:America/Juneau
X-WR-TIMEZONE:America/Juneau
BEGIN:VEVENT
UID:261@orhatzafon.org
DTSTART;TZID=America/Juneau:20250207T190000
DTEND;TZID=America/Juneau:20250207T203000
DTSTAMP:20250206T001928Z
URL:https://www.orhatzafon.org/events/shabbat-service-w-rabbi-moshe-king/
SUMMARY:Shabbat Service w/ Rabbi Moshe King
DESCRIPTION:7pm @ Or HaTzafon
END:VEVENT
BEGIN:VTIMEZONE
TZID:America/Juneau
X-LIC-LOCATION:America/Juneau
BEGIN:STANDARD
DTSTART:20241103T010000
TZOFFSETFROM:-0800
TZOFFSETTO:-0900
TZNAME:AKST
END:STANDARD
END:VTIMEZONE
END:VCALENDAR