BEGIN:VCALENDAR
VERSION:2.0
PRODID:-//wp-events-plugin.com//7.2.3.1//EN
TZID:America/Juneau
X-WR-TIMEZONE:America/Juneau
BEGIN:VEVENT
UID:257@orhatzafon.org
DTSTART;TZID=America/Juneau:20241108T180000
DTEND;TZID=America/Juneau:20241108T200000
DTSTAMP:20241106T195303Z
URL:https://www.orhatzafon.org/events/shabbat-service-dinner/
SUMMARY:Shabbat Service & Dinner
DESCRIPTION:Service and Dinner provided by Elisbeth Nadin. Dinner @ 6:30\, 
 Services @ 7\, @ Or HaTzafon
END:VEVENT
BEGIN:VTIMEZONE
TZID:America/Juneau
X-LIC-LOCATION:America/Juneau
BEGIN:STANDARD
DTSTART:20241103T010000
TZOFFSETFROM:-0800
TZOFFSETTO:-0900
TZNAME:AKST
END:STANDARD
END:VTIMEZONE
END:VCALENDAR