BEGIN:VCALENDAR
VERSION:2.0
PRODID:-//wp-events-plugin.com//7.2.3.1//EN
TZID:America/Juneau
X-WR-TIMEZONE:America/Juneau
BEGIN:VEVENT
UID:267@orhatzafon.org
DTSTART;TZID=America/Juneau:20250523T173000
DTEND;TZID=America/Juneau:20250523T190000
DTSTAMP:20250522T223044Z
URL:https://www.orhatzafon.org/events/rabbi-welcome-bbq/
SUMMARY:Rabbi Welcome BBQ
DESCRIPTION:Community potluck bbq (meat potluck\, no dairy) to welcome back
  Rabbi Yitzi! Services thereafter. All at Or HaTzafon
END:VEVENT
BEGIN:VTIMEZONE
TZID:America/Juneau
X-LIC-LOCATION:America/Juneau
BEGIN:DAYLIGHT
DTSTART:20250309T030000
TZOFFSETFROM:-0900
TZOFFSETTO:-0800
TZNAME:AKDT
END:DAYLIGHT
END:VTIMEZONE
END:VCALENDAR