BEGIN:VCALENDAR
VERSION:2.0
PRODID:-//wp-events-plugin.com//7.2.3.1//EN
TZID:America/Juneau
X-WR-TIMEZONE:America/Juneau
BEGIN:VEVENT
UID:252@orhatzafon.org
DTSTART;TZID=America/Juneau:20241012T173000
DTEND;TZID=America/Juneau:20241012T183000
DTSTAMP:20241008T190041Z
URL:https://www.orhatzafon.org/events/neilah/
SUMMARY:Neilah
DESCRIPTION:5:30pm\, Neilah\, Or HaTzafo
END:VEVENT
BEGIN:VTIMEZONE
TZID:America/Juneau
X-LIC-LOCATION:America/Juneau
BEGIN:DAYLIGHT
DTSTART:20240310T030000
TZOFFSETFROM:-0900
TZOFFSETTO:-0800
TZNAME:AKDT
END:DAYLIGHT
END:VTIMEZONE
END:VCALENDAR