BEGIN:VCALENDAR
VERSION:2.0
PRODID:-//wp-events-plugin.com//7.2.3.1//EN
TZID:America/Juneau
X-WR-TIMEZONE:America/Juneau
BEGIN:VEVENT
UID:262@orhatzafon.org
DTSTART;TZID=America/Juneau:20250208T150000
DTEND;TZID=America/Juneau:20250208T170000
DTSTAMP:20250206T002040Z
URL:https://www.orhatzafon.org/events/morning-shabbat-service-w-rabbi-mosh
 e-king/
SUMMARY:Havdalah w/ Rabbi Moshe King
DESCRIPTION:3pm @ Or HaTzafon
END:VEVENT
BEGIN:VTIMEZONE
TZID:America/Juneau
X-LIC-LOCATION:America/Juneau
BEGIN:STANDARD
DTSTART:20241103T010000
TZOFFSETFROM:-0800
TZOFFSETTO:-0900
TZNAME:AKST
END:STANDARD
END:VTIMEZONE
END:VCALENDAR