BEGIN:VCALENDAR
VERSION:2.0
PRODID:-//wp-events-plugin.com//7.2.3.1//EN
TZID:America/Juneau
X-WR-TIMEZONE:America/Juneau
BEGIN:VEVENT
UID:263@orhatzafon.org
DTSTART;TZID=America/Juneau:20250208T103000
DTEND;TZID=America/Juneau:20250208T120000
DTSTAMP:20250206T002133Z
URL:https://www.orhatzafon.org/events/morning-shabbat-service-w-rabbi-mosh
 e-king-2/
SUMMARY:Morning Shabbat Service w/ Rabbi Moshe King
DESCRIPTION:10:30am @ Or HaTzafon
END:VEVENT
BEGIN:VTIMEZONE
TZID:America/Juneau
X-LIC-LOCATION:America/Juneau
BEGIN:STANDARD
DTSTART:20241103T010000
TZOFFSETFROM:-0800
TZOFFSETTO:-0900
TZNAME:AKST
END:STANDARD
END:VTIMEZONE
END:VCALENDAR