BEGIN:VCALENDAR
VERSION:2.0
PRODID:-//wp-events-plugin.com//7.2.3.1//EN
TZID:America/Juneau
X-WR-TIMEZONE:America/Juneau
BEGIN:VEVENT
UID:248@orhatzafon.org
DTSTART;TZID=America/Juneau:20241011T190000
DTEND;TZID=America/Juneau:20241011T200000
DTSTAMP:20241008T185655Z
URL:https://www.orhatzafon.org/events/kol-nidre-service/
SUMMARY:Kol Nidre Service
DESCRIPTION:October 11th: Kol Nidre Service at 7pm\, @ Or HaTzafon
END:VEVENT
BEGIN:VTIMEZONE
TZID:America/Juneau
X-LIC-LOCATION:America/Juneau
BEGIN:DAYLIGHT
DTSTART:20240310T030000
TZOFFSETFROM:-0900
TZOFFSETTO:-0800
TZNAME:AKDT
END:DAYLIGHT
END:VTIMEZONE
END:VCALENDAR