BEGIN:VCALENDAR
VERSION:2.0
PRODID:-//wp-events-plugin.com//7.2.3.1//EN
TZID:America/Juneau
X-WR-TIMEZONE:America/Juneau
BEGIN:VEVENT
UID:273@orhatzafon.org
DTSTART;TZID=America/Juneau;VALUE=DATE:20250704
DTEND;TZID=America/Juneau;VALUE=DATE:20250705
DTSTAMP:20250617T050919Z
URL:https://www.orhatzafon.org/events/jews-in-canoes-4/
SUMMARY:Jews in Canoes
DESCRIPTION:Friday\, July 4 - Jews in Canoes. Details TBD
END:VEVENT
BEGIN:VTIMEZONE
TZID:America/Juneau
X-LIC-LOCATION:America/Juneau
BEGIN:DAYLIGHT
DTSTART:20250309T030000
TZOFFSETFROM:-0900
TZOFFSETTO:-0800
TZNAME:AKDT
END:DAYLIGHT
END:VTIMEZONE
END:VCALENDAR