BEGIN:VCALENDAR
VERSION:2.0
PRODID:-//wp-events-plugin.com//7.2.3.1//EN
TZID:America/Juneau
X-WR-TIMEZONE:America/Juneau
BEGIN:VEVENT
UID:247@orhatzafon.org
DTSTART;TZID=America/Juneau:20240919T173000
DTEND;TZID=America/Juneau:20240919T190000
DTSTAMP:20240917T192336Z
URL:https://www.orhatzafon.org/events/high-holy-days-choir-practice/
SUMMARY:High Holy Days Choir Practice
DESCRIPTION:@ Or HaTzafon
END:VEVENT
BEGIN:VTIMEZONE
TZID:America/Juneau
X-LIC-LOCATION:America/Juneau
BEGIN:DAYLIGHT
DTSTART:20240310T030000
TZOFFSETFROM:-0900
TZOFFSETTO:-0800
TZNAME:AKDT
END:DAYLIGHT
END:VTIMEZONE
END:VCALENDAR