BEGIN:VCALENDAR
VERSION:2.0
PRODID:-//wp-events-plugin.com//7.2.3.1//EN
TZID:America/Juneau
X-WR-TIMEZONE:America/Juneau
BEGIN:VEVENT
UID:254@orhatzafon.org
DTSTART;TZID=America/Juneau:20241020T160000
DTEND;TZID=America/Juneau:20241020T180000
DTSTAMP:20241008T190217Z
URL:https://www.orhatzafon.org/events/general-membership-meeting-5/
SUMMARY:General Membership Meeting
DESCRIPTION:Sunday\, Oct. 20th\, 4pm @ Or HaTzafon\n\n\n\nThis is your remi
 nder to renew your membership if you have not done so yet. We will talk sh
 op\, discuss the last year\, and discuss what to look forward to in the ne
 xt year.
END:VEVENT
BEGIN:VTIMEZONE
TZID:America/Juneau
X-LIC-LOCATION:America/Juneau
BEGIN:DAYLIGHT
DTSTART:20240310T030000
TZOFFSETFROM:-0900
TZOFFSETTO:-0800
TZNAME:AKDT
END:DAYLIGHT
END:VTIMEZONE
END:VCALENDAR