BEGIN:VCALENDAR
VERSION:2.0
PRODID:-//wp-events-plugin.com//7.2.3.1//EN
TZID:America/Juneau
X-WR-TIMEZONE:America/Juneau
BEGIN:VEVENT
UID:270@orhatzafon.org
DTSTART;TZID=America/Juneau:20250620T173000
DTEND;TZID=America/Juneau:20250620T210000
DTSTAMP:20250617T050726Z
URL:https://www.orhatzafon.org/events/family-potluck-and-tot-shabbat-at-7p
 m-shabbat-services-with-yitzi/
SUMMARY:Family Potluck and Tot Shabbat. At 7pm - Shabbat Services with Yitz
 i.
DESCRIPTION:Friday\, June 20 at 5:30pm - Family Potluck and Tot Shabbat. At
  7pm - Shabbat Services with Yitzi. @ Or HaTzafon
END:VEVENT
BEGIN:VTIMEZONE
TZID:America/Juneau
X-LIC-LOCATION:America/Juneau
BEGIN:DAYLIGHT
DTSTART:20250309T030000
TZOFFSETFROM:-0900
TZOFFSETTO:-0800
TZNAME:AKDT
END:DAYLIGHT
END:VTIMEZONE
END:VCALENDAR