BEGIN:VCALENDAR
VERSION:2.0
PRODID:-//wp-events-plugin.com//7.2.3.1//EN
TZID:America/Juneau
X-WR-TIMEZONE:America/Juneau
BEGIN:VEVENT
UID:233@orhatzafon.org
DTSTART;TZID=America/Juneau:20240619T190000
DTEND;TZID=America/Juneau:20240619T210000
DTSTAMP:20240607T194401Z
URL:https://www.orhatzafon.org/events/earth-based-judiasm-creamers-field/
SUMMARY:Earth-Based Judiasm @ Creamer's Field
DESCRIPTION:Details TBD
END:VEVENT
BEGIN:VTIMEZONE
TZID:America/Juneau
X-LIC-LOCATION:America/Juneau
BEGIN:DAYLIGHT
DTSTART:20240310T030000
TZOFFSETFROM:-0900
TZOFFSETTO:-0800
TZNAME:AKDT
END:DAYLIGHT
END:VTIMEZONE
END:VCALENDAR