BEGIN:VCALENDAR
VERSION:2.0
PRODID:-//wp-events-plugin.com//7.2.3.1//EN
TZID:America/Juneau
X-WR-TIMEZONE:America/Juneau
BEGIN:VEVENT
UID:266@orhatzafon.org
DTSTART;TZID=America/Juneau:20250413T173000
DTEND;TZID=America/Juneau:20250413T210000
DTSTAMP:20250409T164046Z
URL:https://www.orhatzafon.org/events/community_seder_2025/
SUMMARY:Or HaTzafon Community Seder Dinner
DESCRIPTION:Join us for a Community Passover Seder. This year\, our communi
 ty Seder will be held at Pike's Waterfront Lodge. There will also be a (ko
 sher) dessert auction\, alongside matzoh ball making. If you are intereste
 d in providing a dessert for auction or making matzoh balls\, please reach
  out to us at: congregationorhatzafon@gmail.com. Ticket sales are now clos
 ed.
LOCATION:Pike's Waterfront Lodge\, 1850 Hoselton Rd\, Fairbanks\, United St
 ates
X-APPLE-STRUCTURED-LOCATION;VALUE=URI;X-ADDRESS=1850 Hoselton Rd\, Fairbank
 s\, United States;X-APPLE-RADIUS=100;X-TITLE=Pike's Waterfront Lodge:geo:0
 ,0
END:VEVENT
BEGIN:VTIMEZONE
TZID:America/Juneau
X-LIC-LOCATION:America/Juneau
BEGIN:DAYLIGHT
DTSTART:20250309T030000
TZOFFSETFROM:-0900
TZOFFSETTO:-0800
TZNAME:AKDT
END:DAYLIGHT
END:VTIMEZONE
END:VCALENDAR