BEGIN:VCALENDAR
VERSION:2.0
PRODID:-//wp-events-plugin.com//7.2.3.1//EN
TZID:America/Juneau
X-WR-TIMEZONE:America/Juneau
BEGIN:VEVENT
UID:268@orhatzafon.org
DTSTART;TZID=America/Juneau:20250525T103000
DTEND;TZID=America/Juneau:20250525T130000
DTSTAMP:20250522T223132Z
URL:https://www.orhatzafon.org/events/cemetary-clean-up/
SUMMARY:Cemetary Clean-Up
DESCRIPTION:Sunday\, May 25th @ 10:30am\n\nJoin us in respecting and honori
 ng those who came before us by doing some volunteer clean-up work at Birch
  Hill Cemetary
END:VEVENT
BEGIN:VTIMEZONE
TZID:America/Juneau
X-LIC-LOCATION:America/Juneau
BEGIN:DAYLIGHT
DTSTART:20250309T030000
TZOFFSETFROM:-0900
TZOFFSETTO:-0800
TZNAME:AKDT
END:DAYLIGHT
END:VTIMEZONE
END:VCALENDAR