BEGIN:VCALENDAR
VERSION:2.0
PRODID:-//wp-events-plugin.com//7.2.3.1//EN
TZID:America/Juneau
X-WR-TIMEZONE:America/Juneau
BEGIN:VEVENT
UID:275@orhatzafon.org
DTSTART;TZID=America/Juneau:20250711T180000
DTEND;TZID=America/Juneau:20250711T200000
DTSTAMP:20250617T051126Z
URL:https://www.orhatzafon.org/events/bat-mitzvah-pre-party/
SUMMARY:Bat Mitzvah Pre-Party
DESCRIPTION:Friday\, July 11 at 6pm - Bat Mitzvah Pre-Party.
END:VEVENT
BEGIN:VTIMEZONE
TZID:America/Juneau
X-LIC-LOCATION:America/Juneau
BEGIN:DAYLIGHT
DTSTART:20250309T030000
TZOFFSETFROM:-0900
TZOFFSETTO:-0800
TZNAME:AKDT
END:DAYLIGHT
END:VTIMEZONE
END:VCALENDAR